BEGIN:VCALENDAR
VERSION:2.0
PRODID:icalendar-ruby
CALSCALE:GREGORIAN
METHOD:PUBLISH
BEGIN:VEVENT
DTSTAMP:20260422T085706Z
UID:75-1965202@hc-lutheranchurch.org
DTSTART:20240226T233000Z
DTEND:20240227T013000Z
CLASS:PUBLIC
CREATED:20260402T102112
DESCRIPTION:
LAST-MODIFIED:20260402T102112
LOCATION:
SUMMARY:Council Meeting 
URL;VALUE=URI:https://www.hc-lutheranchurch.org/events/council-meeting/2024
 -02-26
ATTACH;FILENAME=Website-Recurring-Event-Images-%284%29.png;FMTTYPE=image/pn
 g:https://dq5pwpg1q8ru0.cloudfront.net/2023/06/07/11/18/29/576c18fd-4dc1-4
 b24-b362-5d8c1c242c8a/Website-Recurring-Event-Images-%25284%2529.png
END:VEVENT
END:VCALENDAR
