BEGIN:VCALENDAR
VERSION:2.0
PRODID:icalendar-ruby
CALSCALE:GREGORIAN
METHOD:PUBLISH
BEGIN:VEVENT
DTSTAMP:20260423T023920Z
UID:59-2135646@hc-lutheranchurch.org
DTSTART:20261025T143000Z
DTEND:20261025T153000Z
CLASS:PUBLIC
CREATED:20260422T220814
DESCRIPTION:Coffee Hour
LAST-MODIFIED:20260422T220814
LOCATION:Narthex for indoor worship\, back lot for outside worship
SUMMARY:Coffee Hour 
URL;VALUE=URI:https://www.hc-lutheranchurch.org/events/coffee-hour/2026-10-
 25
END:VEVENT
END:VCALENDAR
