BEGIN:VCALENDAR
VERSION:2.0
PRODID:icalendar-ruby
CALSCALE:GREGORIAN
METHOD:PUBLISH
BEGIN:VEVENT
DTSTAMP:20260422T222437Z
UID:59-2132858@hc-lutheranchurch.org
DTSTART:20261004T143000Z
DTEND:20261004T153000Z
CLASS:PUBLIC
CREATED:20260422T162230
DESCRIPTION:Coffee Hour
LAST-MODIFIED:20260422T162230
LOCATION:Narthex for indoor worship\, back lot for outside worship
SUMMARY:Coffee Hour 
URL;VALUE=URI:https://www.hc-lutheranchurch.org/events/coffee-hour/2026-10-
 04
END:VEVENT
END:VCALENDAR
