BEGIN:VCALENDAR
VERSION:2.0
PRODID:icalendar-ruby
CALSCALE:GREGORIAN
METHOD:PUBLISH
BEGIN:VEVENT
DTSTAMP:20260422T173909Z
UID:59-2131463@hc-lutheranchurch.org
DTSTART:20260913T143000Z
DTEND:20260913T153000Z
CLASS:PUBLIC
CREATED:20260422T132735
DESCRIPTION:Coffee Hour
LAST-MODIFIED:20260422T132735
LOCATION:Narthex for indoor worship\, back lot for outside worship
SUMMARY:Coffee Hour 
URL;VALUE=URI:https://www.hc-lutheranchurch.org/events/coffee-hour/2026-09-
 13
END:VEVENT
END:VCALENDAR
