BEGIN:VCALENDAR
VERSION:2.0
PRODID:icalendar-ruby
CALSCALE:GREGORIAN
METHOD:PUBLISH
BEGIN:VEVENT
DTSTAMP:20260422T143231Z
UID:59-2130069@hc-lutheranchurch.org
DTSTART:20260830T143000Z
DTEND:20260830T153000Z
CLASS:PUBLIC
CREATED:20260422T103209
DESCRIPTION:Coffee Hour
LAST-MODIFIED:20260422T103209
LOCATION:Narthex for indoor worship\, back lot for outside worship
SUMMARY:Coffee Hour 
URL;VALUE=URI:https://www.hc-lutheranchurch.org/events/coffee-hour/2026-08-
 30
END:VEVENT
END:VCALENDAR
