BEGIN:VCALENDAR
VERSION:2.0
PRODID:icalendar-ruby
CALSCALE:GREGORIAN
METHOD:PUBLISH
BEGIN:VEVENT
DTSTAMP:20260421T184256Z
UID:59-2122966@hc-lutheranchurch.org
DTSTART:20231126T153000Z
DTEND:20231126T163000Z
CLASS:PUBLIC
CREATED:20260421T124121
DESCRIPTION:Coffee Hour
LAST-MODIFIED:20260421T124121
LOCATION:Narthex for indoor worship\, back lot for outside worship
SUMMARY:Coffee Hour 
URL;VALUE=URI:https://www.hc-lutheranchurch.org/events/coffee-hour/2023-11-
 26
END:VEVENT
END:VCALENDAR
