BEGIN:VCALENDAR
VERSION:2.0
PRODID:icalendar-ruby
CALSCALE:GREGORIAN
METHOD:PUBLISH
BEGIN:VEVENT
DTSTAMP:20260421T170749Z
UID:59-2122965@hc-lutheranchurch.org
DTSTART:20231119T153000Z
DTEND:20231119T163000Z
CLASS:PUBLIC
CREATED:20260421T124121
DESCRIPTION:Coffee Hour
LAST-MODIFIED:20260421T124121
LOCATION:Narthex for indoor worship\, back lot for outside worship
SUMMARY:Coffee Hour 
URL;VALUE=URI:https://www.hc-lutheranchurch.org/events/coffee-hour/2023-11-
 19
END:VEVENT
END:VCALENDAR
