BEGIN:VCALENDAR
VERSION:2.0
PRODID:icalendar-ruby
CALSCALE:GREGORIAN
METHOD:PUBLISH
BEGIN:VEVENT
DTSTAMP:20260421T134037Z
UID:59-2120179@hc-lutheranchurch.org
DTSTART:20231105T153000Z
DTEND:20231105T163000Z
CLASS:PUBLIC
CREATED:20260421T072723
DESCRIPTION:Coffee Hour
LAST-MODIFIED:20260421T072723
LOCATION:Narthex for indoor worship\, back lot for outside worship
SUMMARY:Coffee Hour 
URL;VALUE=URI:https://www.hc-lutheranchurch.org/events/coffee-hour/2023-11-
 05
END:VEVENT
END:VCALENDAR
