BEGIN:VCALENDAR
VERSION:2.0
PRODID:icalendar-ruby
CALSCALE:GREGORIAN
METHOD:PUBLISH
BEGIN:VEVENT
DTSTAMP:20260421T120929Z
UID:59-2120178@hc-lutheranchurch.org
DTSTART:20231029T143000Z
DTEND:20231029T153000Z
CLASS:PUBLIC
CREATED:20260421T072723
DESCRIPTION:Coffee Hour
LAST-MODIFIED:20260421T072723
LOCATION:Narthex for indoor worship\, back lot for outside worship
SUMMARY:Coffee Hour 
URL;VALUE=URI:https://www.hc-lutheranchurch.org/events/coffee-hour/2023-10-
 29
END:VEVENT
END:VCALENDAR
