BEGIN:VCALENDAR
VERSION:2.0
PRODID:icalendar-ruby
CALSCALE:GREGORIAN
METHOD:PUBLISH
BEGIN:VEVENT
DTSTAMP:20260421T091855Z
UID:59-2118784@hc-lutheranchurch.org
DTSTART:20231015T143000Z
DTEND:20231015T153000Z
CLASS:PUBLIC
CREATED:20260420T202057
DESCRIPTION:Coffee Hour
LAST-MODIFIED:20260420T202057
LOCATION:Narthex for indoor worship\, back lot for outside worship
SUMMARY:Coffee Hour 
URL;VALUE=URI:https://www.hc-lutheranchurch.org/events/coffee-hour/2023-10-
 15
END:VEVENT
END:VCALENDAR
