BEGIN:VCALENDAR
VERSION:2.0
PRODID:icalendar-ruby
CALSCALE:GREGORIAN
METHOD:PUBLISH
BEGIN:VEVENT
DTSTAMP:20260423T213359Z
UID:193-2138039@hc-lutheranchurch.org
DTSTART:20260514T230000Z
DTEND:20260515T000000Z
CLASS:PUBLIC
CREATED:20260423T095144
DESCRIPTION:Our cluster-wide study series continues with 4 sessions called:
  Meditation and Mindfulness for Here and Now. The group is meeting on Zoom
  from 7-8pm from Thursday\, April 23rd -Thursday\, May 14th. All are welco
 me to participate. Reach out to Pastor Peggy with any questions.
LAST-MODIFIED:20260423T095144
LOCATION:
SUMMARY:Cluster-wide Meditation Study
URL;VALUE=URI:https://www.hc-lutheranchurch.org/events/cluster-wide-meditat
 ion-study/2026-05-14
ATTACH;FILENAME=Cluster-Education-Series-Flyers-1500-x-784-px-2.png;FMTTYPE
 =image/png:https://dq5pwpg1q8ru0.cloudfront.net/2026/04/23/13/51/25/ed7256
 65-bb91-4628-96e4-ee64ca7837b8/Cluster-Education-Series-Flyers-1500-x-784-
 px-2.png
END:VEVENT
END:VCALENDAR
